BEGIN:VCALENDAR
VERSION:2.0
PRODID:-//Latino Civic Alliance Votes - ECPv6.15.13.1//NONSGML v1.0//EN
CALSCALE:GREGORIAN
METHOD:PUBLISH
X-WR-CALNAME:Latino Civic Alliance Votes
X-ORIGINAL-URL:https://lcavotes.org
X-WR-CALDESC:Events for Latino Civic Alliance Votes
REFRESH-INTERVAL;VALUE=DURATION:PT1H
X-Robots-Tag:noindex
X-PUBLISHED-TTL:PT1H
BEGIN:VTIMEZONE
TZID:America/Los_Angeles
BEGIN:DAYLIGHT
TZOFFSETFROM:-0800
TZOFFSETTO:-0700
TZNAME:PDT
DTSTART:20230312T100000
END:DAYLIGHT
BEGIN:STANDARD
TZOFFSETFROM:-0700
TZOFFSETTO:-0800
TZNAME:PST
DTSTART:20231105T090000
END:STANDARD
BEGIN:DAYLIGHT
TZOFFSETFROM:-0800
TZOFFSETTO:-0700
TZNAME:PDT
DTSTART:20240310T100000
END:DAYLIGHT
BEGIN:STANDARD
TZOFFSETFROM:-0700
TZOFFSETTO:-0800
TZNAME:PST
DTSTART:20241103T090000
END:STANDARD
BEGIN:DAYLIGHT
TZOFFSETFROM:-0800
TZOFFSETTO:-0700
TZNAME:PDT
DTSTART:20250309T100000
END:DAYLIGHT
BEGIN:STANDARD
TZOFFSETFROM:-0700
TZOFFSETTO:-0800
TZNAME:PST
DTSTART:20251102T090000
END:STANDARD
END:VTIMEZONE
BEGIN:VEVENT
DTSTART;VALUE=DATE:20241105
DTEND;VALUE=DATE:20241106
DTSTAMP:20260421T143743
CREATED:20240725T163919Z
LAST-MODIFIED:20241012T012537Z
UID:2830-1730764800-1730851199@lcavotes.org
SUMMARY:November 5 - General Election
DESCRIPTION:Print or Save\n        \n        \n         ¡ VAMOS A VOTAR ! \n 
URL:https://lcavotes.org/event/november-5-general-election/
ATTACH;FMTTYPE=image/jpeg:https://lcavotes.org/wp-content/uploads/2024/07/WhatsApp-Image-2024-10-11-at-6.39.46-PM.jpeg
END:VEVENT
BEGIN:VEVENT
DTSTART;VALUE=DATE:20240806
DTEND;VALUE=DATE:20240807
DTSTAMP:20260421T143743
CREATED:20240725T163233Z
LAST-MODIFIED:20240803T064303Z
UID:2825-1722902400-1722988799@lcavotes.org
SUMMARY:August 6 - Primary
DESCRIPTION:Print or Save\n        \n        \n          ¡ VAMOS A VOTAR ! \n 
URL:https://lcavotes.org/event/august-6-primary/
ATTACH;FMTTYPE=image/jpeg:https://lcavotes.org/wp-content/uploads/2024/07/LCA-VOTES-FLYER-2-scaled.jpg
END:VEVENT
BEGIN:VEVENT
DTSTART;TZID=America/Los_Angeles:20240523T180000
DTEND;TZID=America/Los_Angeles:20240523T200000
DTSTAMP:20260421T143743
CREATED:20240506T164559Z
LAST-MODIFIED:20240515T182107Z
UID:643-1716487200-1716494400@lcavotes.org
SUMMARY:Re - Elect Representative State Lillian Ortiz-Self
DESCRIPTION:Join Us for special event & conversation with state representative Lillian Ortiz-Self House Democratic Caucus Chair. \nReserve Here\nPlease enable JavaScript in your browser to complete this form.Please enable JavaScript in your browser to complete this form.Name *FirstLastEmail *Submit
URL:https://lcavotes.org/event/re-elect-representative-state-lillian-ortiz-self/
LOCATION:Latino Civic & Cultural Center\, 445 SW 152nd St\, Burien\, WA\, 98166\, United States
ATTACH;FMTTYPE=image/png:https://lcavotes.org/wp-content/uploads/2024/05/image.png
ORGANIZER;CN="Latino Civic Alliance Votes":MAILTO:endorse@LCAvotes.org
END:VEVENT
END:VCALENDAR